BEGIN:VCALENDAR
VERSION:2.0
PRODID:-//Plone.org//NONSGML plone.app.event//EN
X-WR-TIMEZONE:Europe/Berlin
BEGIN:VEVENT
SUMMARY:Kita Frankfurt - Sommerfest  23
DTSTART;TZID=Europe/Berlin;VALUE=DATE-TIME:20230914T180000
DTSTAMP;VALUE=DATE-TIME:20260425T155821Z
UID:45654867eb634993b31cdc3f2a469027@www.stadtmacht.org
CATEGORIES:ST1
CONTACT:verdi-kita-frankfurt\, verdi-kita-frankfurt@stadtmacht.de
CREATED;VALUE=DATE-TIME:20230903T122619Z
DESCRIPTION:Die ver.di Vertrauensleute Kita Frankfurt laden ein zum Sommer
 fest in den DGB Jugendclub. Fingerfood / Getränke/ Musik aus der Dose und
  nette Leute. Wir freuen uns auf dein kommen.
LAST-MODIFIED;VALUE=DATE-TIME:20230904T123929Z
LOCATION:DGB-Jugendclub DGB-Haus Frankfurt
URL:https://www.stadtmacht.org/vertrauensleute/kita-frankfurt/aktuell-23/s
 omerfest-23
END:VEVENT
BEGIN:VTIMEZONE
TZID:Europe/Berlin
X-LIC-LOCATION:Europe/Berlin
BEGIN:DAYLIGHT
DTSTART;VALUE=DATE-TIME:20230326T030000
TZNAME:CEST
TZOFFSETFROM:+0100
TZOFFSETTO:+0200
END:DAYLIGHT
END:VTIMEZONE
END:VCALENDAR
